BEGIN:VCALENDAR
VERSION:2.0
PRODID:-//Tukios.com/
BEGIN:VEVENT
UID:98b31711-ad1c-434d-8fcc-641954a2e653@www.romingerfuneralhome.com
DTSTAMP:20260420T235737Z
DTSTART:20260421T170000Z
DTEND:20260421T180000Z
SUMMARY:Visitation
DESCRIPTION:
URL:https://www.romingerfuneralhome.com/obituaries/john-gibson
LOCATION:Rominger Funeral Home Chapel 402 Richmond Road  Manchester KY 
	40962
GEO:37.1584255;-83.7666215
END:VEVENT
END:VCALENDAR