BEGIN:VCALENDAR
VERSION:2.0
PRODID:-//Tukios.com/
BEGIN:VEVENT
UID:a5b9b2dd-4c41-45dc-8db2-bad01eb38204@www.romingerfuneralhome.com
DTSTAMP:20260420T235656Z
DTSTART:20260421T180000Z
DTEND:20260421T190000Z
SUMMARY:Funeral Service
DESCRIPTION:
URL:https://www.romingerfuneralhome.com/obituaries/john-gibson
LOCATION:Rominger Funeral Home Chapel 402 Richmond Road  Manchester KY 
	40962
GEO:37.1584255;-83.7666215
END:VEVENT
END:VCALENDAR